BEGIN:VCALENDAR
VERSION:2.0
PRODID:-//Algoma Workforce Investment Corporation (AWIC) - ECPv6.15.17.1//NONSGML v1.0//EN
CALSCALE:GREGORIAN
METHOD:PUBLISH
X-WR-CALNAME:Algoma Workforce Investment Corporation (AWIC)
X-ORIGINAL-URL:https://awic.ca
X-WR-CALDESC:Events for Algoma Workforce Investment Corporation (AWIC)
REFRESH-INTERVAL;VALUE=DURATION:PT1H
X-Robots-Tag:noindex
X-PUBLISHED-TTL:PT1H
BEGIN:VTIMEZONE
TZID:America/New_York
BEGIN:DAYLIGHT
TZOFFSETFROM:-0500
TZOFFSETTO:-0400
TZNAME:EDT
DTSTART:20250309T070000
END:DAYLIGHT
BEGIN:STANDARD
TZOFFSETFROM:-0400
TZOFFSETTO:-0500
TZNAME:EST
DTSTART:20251102T060000
END:STANDARD
BEGIN:DAYLIGHT
TZOFFSETFROM:-0500
TZOFFSETTO:-0400
TZNAME:EDT
DTSTART:20260308T070000
END:DAYLIGHT
BEGIN:STANDARD
TZOFFSETFROM:-0400
TZOFFSETTO:-0500
TZNAME:EST
DTSTART:20261101T060000
END:STANDARD
BEGIN:DAYLIGHT
TZOFFSETFROM:-0500
TZOFFSETTO:-0400
TZNAME:EDT
DTSTART:20270314T070000
END:DAYLIGHT
BEGIN:STANDARD
TZOFFSETFROM:-0400
TZOFFSETTO:-0500
TZNAME:EST
DTSTART:20271107T060000
END:STANDARD
END:VTIMEZONE
BEGIN:VEVENT
DTSTART;TZID=America/New_York:20260424T120000
DTEND;TZID=America/New_York:20260424T130000
DTSTAMP:20260424T022622
CREATED:20260319T164407Z
LAST-MODIFIED:20260421T190629Z
UID:197453-1777032000-1777035600@awic.ca
SUMMARY:iCA Cafe - Special Edition – Free Immigration Q&A
DESCRIPTION:iCA Cafe – Free Immigration Q&A \nJoin us THIS FRIDAY for a special edition of the iCA Cafe! Whether you’re joining us in-person or hanging out with us virtually\, this is a session you don’t want to miss. 🚀 \n🏠 SPECIAL GUEST ALERT: We are thrilled to host Habitat for Humanity – SSM! Learn about their incredible services for newcomers and how you can make an impact through their volunteer opportunities. 🤝 \nWHO SHOULD JOIN?\n🎓 Students & Prospective Students\n🌍 Newcomers to Canada\n💼 Job Seekers \nWHY ATTEND?\n🔍 Get the inside scoop on the Canadian job market.\n🤝 Network with industry experts and peers.\n❓ Get your burning questions answered in our Live Q&A. \nDon’t miss this golden opportunity to connect and grow. 🌟 \nRegistration Link (Eventbrite):\nhttps://www.eventbrite.ca/e/ica-cafe-free-immigration-q-a-session-tickets-1980047577606?aff=ebdsshcopyurl&utm-campaign=social&utm-content=attendeeshare&utm-medium=discovery&utm-term=listing&utm-source=cp
URL:https://awic.ca/events/ica-cafe-free-immigration-qa-3/
END:VEVENT
END:VCALENDAR